BEGIN:VCALENDAR
VERSION:2.0
PRODID:-//Homeless Partnership - ECPv6.15.14//NONSGML v1.0//EN
CALSCALE:GREGORIAN
METHOD:PUBLISH
X-WR-CALNAME:Homeless Partnership
X-ORIGINAL-URL:https://sbchp.sbcounty.gov
X-WR-CALDESC:Events for Homeless Partnership
REFRESH-INTERVAL;VALUE=DURATION:PT1H
X-Robots-Tag:noindex
X-PUBLISHED-TTL:PT1H
BEGIN:VTIMEZONE
TZID:America/Denver
BEGIN:DAYLIGHT
TZOFFSETFROM:-0700
TZOFFSETTO:-0600
TZNAME:MDT
DTSTART:20210314T090000
END:DAYLIGHT
BEGIN:STANDARD
TZOFFSETFROM:-0600
TZOFFSETTO:-0700
TZNAME:MST
DTSTART:20211107T080000
END:STANDARD
BEGIN:DAYLIGHT
TZOFFSETFROM:-0700
TZOFFSETTO:-0600
TZNAME:MDT
DTSTART:20220313T090000
END:DAYLIGHT
BEGIN:STANDARD
TZOFFSETFROM:-0600
TZOFFSETTO:-0700
TZNAME:MST
DTSTART:20221106T080000
END:STANDARD
BEGIN:DAYLIGHT
TZOFFSETFROM:-0700
TZOFFSETTO:-0600
TZNAME:MDT
DTSTART:20230312T090000
END:DAYLIGHT
BEGIN:STANDARD
TZOFFSETFROM:-0600
TZOFFSETTO:-0700
TZNAME:MST
DTSTART:20231105T080000
END:STANDARD
END:VTIMEZONE
BEGIN:VEVENT
DTSTART;TZID=America/Denver:20220504T130000
DTEND;TZID=America/Denver:20220504T140000
DTSTAMP:20260422T222916
CREATED:20220429T000525Z
LAST-MODIFIED:20220429T000525Z
UID:32871-1651669200-1651672800@sbchp.sbcounty.gov
SUMMARY:Central Valley Homeless Partnership Meeting
DESCRIPTION:View meeting agenda \nTeleconference info\nDial-in Info: (669) 900-9128\nMeeting ID: 816 9320 3318\nPasscode: 173712\nPlease Use Our Digital Sign-in Sheet
URL:https://sbchp.sbcounty.gov/event/central-valley-homeless-partnership-meeting-5/
LOCATION:CA\, United States
CATEGORIES:HPN
END:VEVENT
END:VCALENDAR