BEGIN:VCALENDAR
VERSION:2.0
PRODID:-//Homeless Partnership - ECPv6.15.14//NONSGML v1.0//EN
CALSCALE:GREGORIAN
METHOD:PUBLISH
X-WR-CALNAME:Homeless Partnership
X-ORIGINAL-URL:https://sbchp.sbcounty.gov
X-WR-CALDESC:Events for Homeless Partnership
REFRESH-INTERVAL;VALUE=DURATION:PT1H
X-Robots-Tag:noindex
X-PUBLISHED-TTL:PT1H
BEGIN:VTIMEZONE
TZID:America/Denver
BEGIN:DAYLIGHT
TZOFFSETFROM:-0700
TZOFFSETTO:-0600
TZNAME:MDT
DTSTART:20200308T090000
END:DAYLIGHT
BEGIN:STANDARD
TZOFFSETFROM:-0600
TZOFFSETTO:-0700
TZNAME:MST
DTSTART:20201101T080000
END:STANDARD
BEGIN:DAYLIGHT
TZOFFSETFROM:-0700
TZOFFSETTO:-0600
TZNAME:MDT
DTSTART:20210314T090000
END:DAYLIGHT
BEGIN:STANDARD
TZOFFSETFROM:-0600
TZOFFSETTO:-0700
TZNAME:MST
DTSTART:20211107T080000
END:STANDARD
BEGIN:DAYLIGHT
TZOFFSETFROM:-0700
TZOFFSETTO:-0600
TZNAME:MDT
DTSTART:20220313T090000
END:DAYLIGHT
BEGIN:STANDARD
TZOFFSETFROM:-0600
TZOFFSETTO:-0700
TZNAME:MST
DTSTART:20221106T080000
END:STANDARD
END:VTIMEZONE
BEGIN:VEVENT
DTSTART;TZID=America/Denver:20210505T130000
DTEND;TZID=America/Denver:20210505T131500
DTSTAMP:20260424T032000
CREATED:20210430T212733Z
LAST-MODIFIED:20210430T212733Z
UID:32646-1620219600-1620220500@sbchp.sbcounty.gov
SUMMARY:Central Valley Homeless Partnership Network Meeting
DESCRIPTION:Agenda \nZoom Video Conference\nJoin Zoom Meeting on your computer browser or mobile app: https://us02web.zoom.us/j/81693203318?pwd=dys2Q2hnR0Y1Q3d2NXBSYlRZQ2thUT09\nMeeting ID: 816 9320 3318 Password: 543875\nDial by your location +1 669 900 9128\nPlease Use Our Digital Sign-in Sheet
URL:https://sbchp.sbcounty.gov/event/central-valley-homeless-partnership-network-meeting-4/
LOCATION:CA\, United States
CATEGORIES:HPN
END:VEVENT
END:VCALENDAR