BEGIN:VCALENDAR
VERSION:2.0
PRODID:-//Homeless Partnership - ECPv6.15.14//NONSGML v1.0//EN
CALSCALE:GREGORIAN
METHOD:PUBLISH
X-WR-CALNAME:Homeless Partnership
X-ORIGINAL-URL:https://sbchp.sbcounty.gov
X-WR-CALDESC:Events for Homeless Partnership
REFRESH-INTERVAL;VALUE=DURATION:PT1H
X-Robots-Tag:noindex
X-PUBLISHED-TTL:PT1H
BEGIN:VTIMEZONE
TZID:America/Los_Angeles
BEGIN:DAYLIGHT
TZOFFSETFROM:-0800
TZOFFSETTO:-0700
TZNAME:PDT
DTSTART:20230312T100000
END:DAYLIGHT
BEGIN:STANDARD
TZOFFSETFROM:-0700
TZOFFSETTO:-0800
TZNAME:PST
DTSTART:20231105T090000
END:STANDARD
BEGIN:DAYLIGHT
TZOFFSETFROM:-0800
TZOFFSETTO:-0700
TZNAME:PDT
DTSTART:20240310T100000
END:DAYLIGHT
BEGIN:STANDARD
TZOFFSETFROM:-0700
TZOFFSETTO:-0800
TZNAME:PST
DTSTART:20241103T090000
END:STANDARD
BEGIN:DAYLIGHT
TZOFFSETFROM:-0800
TZOFFSETTO:-0700
TZNAME:PDT
DTSTART:20250309T100000
END:DAYLIGHT
BEGIN:STANDARD
TZOFFSETFROM:-0700
TZOFFSETTO:-0800
TZNAME:PST
DTSTART:20251102T090000
END:STANDARD
END:VTIMEZONE
BEGIN:VEVENT
DTSTART;TZID=America/Los_Angeles:20241114T090000
DTEND;TZID=America/Los_Angeles:20241114T110000
DTSTAMP:20260424T080649
CREATED:20241109T001343Z
LAST-MODIFIED:20241109T001343Z
UID:44650-1731574800-1731582000@sbchp.sbcounty.gov
SUMMARY:CES Policy Training for Community or Non-Profit Organizations/Agencies
DESCRIPTION:The Office of Homeless Services (OHS) and Inland SoCal United Way (ISCUW) 211+ are excited to present two large-scale training opportunities as a collaborative effort to provide guidance on the implementation of the San Bernardino County CES\, including explaining the: \n\nCES Purpose\nCES Phases/Components\nCES Processes\nCurrent San Bernardino County CES Policies\n\nTrainings will be provided virtually via Microsoft Teams on the following dates/times: \nCommunity or Non-Profit Organizations/Agencies \n\nThursday\, 11/14/24 from 9-11am\nJoin the meeting now\nMeeting ID: 235 984 945 736\nPasscode: RacYZk\n\nAlthough these trainings are not mandatory\, OHS and ISCUW 211+ strongly encourage participation to enhance your knowledge on the County’s current CES practices. \nFor questions about the trainings or CES\, please contact the following: \n\nAziza Manual (ISCUW 211+) at azizam@iscuw.org or 909-980-2857 ext.4025\nMelanie Gonzalez Ganceda (OHS) at gonzalezganceda@hss.sbcounty.gov or 909-501-0604\n\nNotes: \n\nThere is no registration required to attend the large-scale virtual trainings.\n\nAll entities will have the opportunity to request individual training for their staff/entity as needed\, even if the virtual large-scale training was attended. To request training\, please contact Aziza Manual or Melanie Gonzalez Ganceda.
URL:https://sbchp.sbcounty.gov/event/ces-policy-training-for-community-or-non-profit-organizations-agencies/
CATEGORIES:Training
END:VEVENT
END:VCALENDAR