BEGIN:VCALENDAR
VERSION:2.0
PRODID:-//Homeless Partnership - ECPv6.15.14//NONSGML v1.0//EN
CALSCALE:GREGORIAN
METHOD:PUBLISH
X-WR-CALNAME:Homeless Partnership
X-ORIGINAL-URL:https://sbchp.sbcounty.gov
X-WR-CALDESC:Events for Homeless Partnership
REFRESH-INTERVAL;VALUE=DURATION:PT1H
X-Robots-Tag:noindex
X-PUBLISHED-TTL:PT1H
BEGIN:VTIMEZONE
TZID:America/Los_Angeles
BEGIN:DAYLIGHT
TZOFFSETFROM:-0800
TZOFFSETTO:-0700
TZNAME:PDT
DTSTART:20240310T100000
END:DAYLIGHT
BEGIN:STANDARD
TZOFFSETFROM:-0700
TZOFFSETTO:-0800
TZNAME:PST
DTSTART:20241103T090000
END:STANDARD
BEGIN:DAYLIGHT
TZOFFSETFROM:-0800
TZOFFSETTO:-0700
TZNAME:PDT
DTSTART:20250309T100000
END:DAYLIGHT
BEGIN:STANDARD
TZOFFSETFROM:-0700
TZOFFSETTO:-0800
TZNAME:PST
DTSTART:20251102T090000
END:STANDARD
BEGIN:DAYLIGHT
TZOFFSETFROM:-0800
TZOFFSETTO:-0700
TZNAME:PDT
DTSTART:20260308T100000
END:DAYLIGHT
BEGIN:STANDARD
TZOFFSETFROM:-0700
TZOFFSETTO:-0800
TZNAME:PST
DTSTART:20261101T090000
END:STANDARD
END:VTIMEZONE
BEGIN:VEVENT
DTSTART;TZID=America/Los_Angeles:20250423T090000
DTEND;TZID=America/Los_Angeles:20250423T110000
DTSTAMP:20260425T094543
CREATED:20250220T231925Z
LAST-MODIFIED:20250416T165201Z
UID:52908-1745398800-1745406000@sbchp.sbcounty.gov
SUMMARY:Continuum of Care Board Meeting April 23\, 2025
DESCRIPTION:Greetings! You are invited to attend: \nA Meeting of the \nContinuum of Care Board \nCoC Board Meeting Agenda April 23. 2025 \nApril 23\, 2025 – 9:00 – 11:00 am \nWorkforce Development Department \n290 N. D Street\, San Bernardino\, CA 92401 \n CoC Board members must attend the meeting in person \nThe public may observe the meeting online on Zoom: \nJoin the meeting now \n 
URL:https://sbchp.sbcounty.gov/event/continuum-of-care-board-meeting-april-23-2025/
END:VEVENT
END:VCALENDAR