BEGIN:VCALENDAR
VERSION:2.0
PRODID:-//Homeless Partnership - ECPv6.15.14//NONSGML v1.0//EN
CALSCALE:GREGORIAN
METHOD:PUBLISH
X-WR-CALNAME:Homeless Partnership
X-ORIGINAL-URL:https://sbchp.sbcounty.gov
X-WR-CALDESC:Events for Homeless Partnership
REFRESH-INTERVAL;VALUE=DURATION:PT1H
X-Robots-Tag:noindex
X-PUBLISHED-TTL:PT1H
BEGIN:VTIMEZONE
TZID:America/Denver
BEGIN:DAYLIGHT
TZOFFSETFROM:-0700
TZOFFSETTO:-0600
TZNAME:MDT
DTSTART:20190310T090000
END:DAYLIGHT
BEGIN:STANDARD
TZOFFSETFROM:-0600
TZOFFSETTO:-0700
TZNAME:MST
DTSTART:20191103T080000
END:STANDARD
BEGIN:DAYLIGHT
TZOFFSETFROM:-0700
TZOFFSETTO:-0600
TZNAME:MDT
DTSTART:20200308T090000
END:DAYLIGHT
BEGIN:STANDARD
TZOFFSETFROM:-0600
TZOFFSETTO:-0700
TZNAME:MST
DTSTART:20201101T080000
END:STANDARD
BEGIN:DAYLIGHT
TZOFFSETFROM:-0700
TZOFFSETTO:-0600
TZNAME:MDT
DTSTART:20210314T090000
END:DAYLIGHT
BEGIN:STANDARD
TZOFFSETFROM:-0600
TZOFFSETTO:-0700
TZNAME:MST
DTSTART:20211107T080000
END:STANDARD
END:VTIMEZONE
BEGIN:VEVENT
DTSTART;TZID=America/Denver:20201209T130000
DTEND;TZID=America/Denver:20201209T143000
DTSTAMP:20260424T195342
CREATED:20201204T165323Z
LAST-MODIFIED:20201204T165323Z
UID:32556-1607518800-1607524200@sbchp.sbcounty.gov
SUMMARY:Desert Regional Meeting
DESCRIPTION:Via ZOOM: ID 847 8237 7130\nPasscode 24896\nInternet link: https://us02web.zoom.us/j/84782377130?pwd=K0g0UDlSSzQ2TFNiM041SXQ0TzhmUT09 \nDesert HPN Meeting Materials 12.9.20
URL:https://sbchp.sbcounty.gov/event/desert-regional-meeting-8/
LOCATION:CA\, United States
CATEGORIES:HPN
END:VEVENT
END:VCALENDAR