BEGIN:VCALENDAR
VERSION:2.0
PRODID:-//Homeless Partnership - ECPv6.15.14//NONSGML v1.0//EN
CALSCALE:GREGORIAN
METHOD:PUBLISH
X-WR-CALNAME:Homeless Partnership
X-ORIGINAL-URL:https://sbchp.sbcounty.gov
X-WR-CALDESC:Events for Homeless Partnership
REFRESH-INTERVAL;VALUE=DURATION:PT1H
X-Robots-Tag:noindex
X-PUBLISHED-TTL:PT1H
BEGIN:VTIMEZONE
TZID:America/Los_Angeles
BEGIN:DAYLIGHT
TZOFFSETFROM:-0800
TZOFFSETTO:-0700
TZNAME:PDT
DTSTART:20230312T100000
END:DAYLIGHT
BEGIN:STANDARD
TZOFFSETFROM:-0700
TZOFFSETTO:-0800
TZNAME:PST
DTSTART:20231105T090000
END:STANDARD
BEGIN:DAYLIGHT
TZOFFSETFROM:-0800
TZOFFSETTO:-0700
TZNAME:PDT
DTSTART:20240310T100000
END:DAYLIGHT
BEGIN:STANDARD
TZOFFSETFROM:-0700
TZOFFSETTO:-0800
TZNAME:PST
DTSTART:20241103T090000
END:STANDARD
BEGIN:DAYLIGHT
TZOFFSETFROM:-0800
TZOFFSETTO:-0700
TZNAME:PDT
DTSTART:20250309T100000
END:DAYLIGHT
BEGIN:STANDARD
TZOFFSETFROM:-0700
TZOFFSETTO:-0800
TZNAME:PST
DTSTART:20251102T090000
END:STANDARD
END:VTIMEZONE
BEGIN:VEVENT
DTSTART;TZID=America/Los_Angeles:20241009T083000
DTEND;TZID=America/Los_Angeles:20241009T123000
DTSTAMP:20260424T065035
CREATED:20241005T004237Z
LAST-MODIFIED:20241005T004237Z
UID:44361-1728462600-1728477000@sbchp.sbcounty.gov
SUMMARY:West Valley Regional Steering Committee Meeting
DESCRIPTION:View Meeting Agenda \nAgenda includes: \n“Strengthening Housing\, Health & Social Care Partnerships\nto Deliver Solutions for Ending Homelessness”\nSpecial Guest Speaker – John T. Chapman\nPresident & CEO\, San Antonio Regional Hospital\nInland Region Chair\, Hospital Association of Southern California \n“Building A Connected Community of Care w/CalAIM”\nDora Barilla\, DrPH\, President & Co-Founder HC2 Strategies\nLauran Hardin\, MSN\, Chief Integration Officer\, HC2 Strategies \nSetting Regional Priorities for Strategic Resource Alignment\,\nCoordinated Service Delivery and Future Funding Opportunities\nDon Smith & Erika Lewis-Huntley\, Co-Chairs\, West Valley RSC \nHybrid Meeting Hosted by the City of Rancho Cucamonga/Healthy RC Committee w/support from Kaiser Permanente Southern California \nIn person: \nJames L. Brulte Senior Center \n11200 Baseline Road\, Rancho Cucamonga\, CA 91701
URL:https://sbchp.sbcounty.gov/event/west-valley-regional-steering-committee-meeting-11/
END:VEVENT
END:VCALENDAR