BEGIN:VCALENDAR
VERSION:2.0
PRODID:-//Homeless Partnership - ECPv6.15.14//NONSGML v1.0//EN
CALSCALE:GREGORIAN
METHOD:PUBLISH
X-WR-CALNAME:Homeless Partnership
X-ORIGINAL-URL:https://sbchp.sbcounty.gov
X-WR-CALDESC:Events for Homeless Partnership
REFRESH-INTERVAL;VALUE=DURATION:PT1H
X-Robots-Tag:noindex
X-PUBLISHED-TTL:PT1H
BEGIN:VTIMEZONE
TZID:America/Denver
BEGIN:DAYLIGHT
TZOFFSETFROM:-0700
TZOFFSETTO:-0600
TZNAME:MDT
DTSTART:20190310T090000
END:DAYLIGHT
BEGIN:STANDARD
TZOFFSETFROM:-0600
TZOFFSETTO:-0700
TZNAME:MST
DTSTART:20191103T080000
END:STANDARD
BEGIN:DAYLIGHT
TZOFFSETFROM:-0700
TZOFFSETTO:-0600
TZNAME:MDT
DTSTART:20200308T090000
END:DAYLIGHT
BEGIN:STANDARD
TZOFFSETFROM:-0600
TZOFFSETTO:-0700
TZNAME:MST
DTSTART:20201101T080000
END:STANDARD
BEGIN:DAYLIGHT
TZOFFSETFROM:-0700
TZOFFSETTO:-0600
TZNAME:MDT
DTSTART:20210314T090000
END:DAYLIGHT
BEGIN:STANDARD
TZOFFSETFROM:-0600
TZOFFSETTO:-0700
TZNAME:MST
DTSTART:20211107T080000
END:STANDARD
END:VTIMEZONE
BEGIN:VEVENT
DTSTART;TZID=America/Denver:20201007T090000
DTEND;TZID=America/Denver:20201007T103000
DTSTAMP:20260425T034333
CREATED:20201005T153733Z
LAST-MODIFIED:20201005T153733Z
UID:10002363-1602061200-1602066600@sbchp.sbcounty.gov
SUMMARY:Special ICH Meeting
DESCRIPTION:Agenda \nWebEx Meeting – Council Members will be forwarded instructions\nMembers of the Public may call:\n•Access #: 1 (415) 655-0002\n•Access code: 146 219 7982
URL:https://sbchp.sbcounty.gov/event/special-ich-meeting-5/
LOCATION:United States
CATEGORIES:ICH
END:VEVENT
BEGIN:VEVENT
DTSTART;TZID=America/Denver:20201028T090000
DTEND;TZID=America/Denver:20201028T110000
DTSTAMP:20260425T034333
CREATED:20201023T155023Z
LAST-MODIFIED:20201023T155023Z
UID:10002453-1603875600-1603882800@sbchp.sbcounty.gov
SUMMARY:Special ICH Meeting
DESCRIPTION:THIS MEETING WILL BE CONDUCTED PURSUANT TO THE PROVISIONS OF THE GOVERNOR’S EXECUTIVE ORDER N-29-20  \nDATED MARCH 17\, 2020\, WHICH SUSPENDS CERTAIN REQUIREMENTS OF THE RALPH M. BROWN ACT. \nDate: October 28\, 2020\nTime: 9:00 am – 11:00 am\nPlace: WebEx Meeting – Council Members will be forwarded instructions \nMembers of the public may call: \n\nAccess #: 1-415-655-0002\nAccess Code: 960 893 711\n\nNote: Please remember to MUTE your phones. DO NOT place this call on hold should you get another call. Hang up and then rejoin the meeting. \nSpecial ICH Meeting Materials 10.28.20
URL:https://sbchp.sbcounty.gov/event/ich-meeting-42/
LOCATION:United States
CATEGORIES:ICH
END:VEVENT
END:VCALENDAR