BEGIN:VCALENDAR
VERSION:2.0
PRODID:-//Homeless Partnership - ECPv6.15.14//NONSGML v1.0//EN
CALSCALE:GREGORIAN
METHOD:PUBLISH
X-WR-CALNAME:Homeless Partnership
X-ORIGINAL-URL:https://sbchp.sbcounty.gov
X-WR-CALDESC:Events for Homeless Partnership
REFRESH-INTERVAL;VALUE=DURATION:PT1H
X-Robots-Tag:noindex
X-PUBLISHED-TTL:PT1H
BEGIN:VTIMEZONE
TZID:America/Denver
BEGIN:DAYLIGHT
TZOFFSETFROM:-0700
TZOFFSETTO:-0600
TZNAME:MDT
DTSTART:20200308T090000
END:DAYLIGHT
BEGIN:STANDARD
TZOFFSETFROM:-0600
TZOFFSETTO:-0700
TZNAME:MST
DTSTART:20201101T080000
END:STANDARD
BEGIN:DAYLIGHT
TZOFFSETFROM:-0700
TZOFFSETTO:-0600
TZNAME:MDT
DTSTART:20210314T090000
END:DAYLIGHT
BEGIN:STANDARD
TZOFFSETFROM:-0600
TZOFFSETTO:-0700
TZNAME:MST
DTSTART:20211107T080000
END:STANDARD
BEGIN:DAYLIGHT
TZOFFSETFROM:-0700
TZOFFSETTO:-0600
TZNAME:MDT
DTSTART:20220313T090000
END:DAYLIGHT
BEGIN:STANDARD
TZOFFSETFROM:-0600
TZOFFSETTO:-0700
TZNAME:MST
DTSTART:20221106T080000
END:STANDARD
END:VTIMEZONE
BEGIN:VEVENT
DTSTART;TZID=America/Denver:20210324T090000
DTEND;TZID=America/Denver:20210324T110000
DTSTAMP:20260422T165737
CREATED:20210318T221947Z
LAST-MODIFIED:20210318T221947Z
UID:10002513-1616576400-1616583600@sbchp.sbcounty.gov
SUMMARY:ICH Meeting
DESCRIPTION:Date: March 24\, 2021\nTime: 9:00 am – 11:00 am\nPlace: WebEx Meeting – Council Members will be forwarded instructions \nMembers of the public may call: \nAccess #: 1 (415) 655-0002\nAccess code: 146 194 4319 \nICH Agenda 3.24.21 Meeting Materials \nNote: Please remember to MUTE your phones. DO NOT place this call on hold should you get another call. Hang up and then rejoin the meeting.
URL:https://sbchp.sbcounty.gov/event/ich-meeting-45/
LOCATION:United States
CATEGORIES:ICH
END:VEVENT
END:VCALENDAR