BEGIN:VCALENDAR
VERSION:2.0
PRODID:-//Homeless Partnership - ECPv6.15.14//NONSGML v1.0//EN
CALSCALE:GREGORIAN
METHOD:PUBLISH
X-WR-CALNAME:Homeless Partnership
X-ORIGINAL-URL:https://sbchp.sbcounty.gov
X-WR-CALDESC:Events for Homeless Partnership
REFRESH-INTERVAL;VALUE=DURATION:PT1H
X-Robots-Tag:noindex
X-PUBLISHED-TTL:PT1H
BEGIN:VTIMEZONE
TZID:America/Los_Angeles
BEGIN:DAYLIGHT
TZOFFSETFROM:-0800
TZOFFSETTO:-0700
TZNAME:PDT
DTSTART:20230312T100000
END:DAYLIGHT
BEGIN:STANDARD
TZOFFSETFROM:-0700
TZOFFSETTO:-0800
TZNAME:PST
DTSTART:20231105T090000
END:STANDARD
BEGIN:DAYLIGHT
TZOFFSETFROM:-0800
TZOFFSETTO:-0700
TZNAME:PDT
DTSTART:20240310T100000
END:DAYLIGHT
BEGIN:STANDARD
TZOFFSETFROM:-0700
TZOFFSETTO:-0800
TZNAME:PST
DTSTART:20241103T090000
END:STANDARD
BEGIN:DAYLIGHT
TZOFFSETFROM:-0800
TZOFFSETTO:-0700
TZNAME:PDT
DTSTART:20250309T100000
END:DAYLIGHT
BEGIN:STANDARD
TZOFFSETFROM:-0700
TZOFFSETTO:-0800
TZNAME:PST
DTSTART:20251102T090000
END:STANDARD
BEGIN:DAYLIGHT
TZOFFSETFROM:-0800
TZOFFSETTO:-0700
TZNAME:PDT
DTSTART:20260308T100000
END:DAYLIGHT
BEGIN:STANDARD
TZOFFSETFROM:-0700
TZOFFSETTO:-0800
TZNAME:PST
DTSTART:20261101T090000
END:STANDARD
END:VTIMEZONE
BEGIN:VTIMEZONE
TZID:America/Denver
BEGIN:DAYLIGHT
TZOFFSETFROM:-0700
TZOFFSETTO:-0600
TZNAME:MDT
DTSTART:20220313T090000
END:DAYLIGHT
BEGIN:STANDARD
TZOFFSETFROM:-0600
TZOFFSETTO:-0700
TZNAME:MST
DTSTART:20221106T080000
END:STANDARD
BEGIN:DAYLIGHT
TZOFFSETFROM:-0700
TZOFFSETTO:-0600
TZNAME:MDT
DTSTART:20230312T090000
END:DAYLIGHT
BEGIN:STANDARD
TZOFFSETFROM:-0600
TZOFFSETTO:-0700
TZNAME:MST
DTSTART:20231105T080000
END:STANDARD
BEGIN:DAYLIGHT
TZOFFSETFROM:-0700
TZOFFSETTO:-0600
TZNAME:MDT
DTSTART:20240310T090000
END:DAYLIGHT
BEGIN:STANDARD
TZOFFSETFROM:-0600
TZOFFSETTO:-0700
TZNAME:MST
DTSTART:20241103T080000
END:STANDARD
BEGIN:DAYLIGHT
TZOFFSETFROM:-0700
TZOFFSETTO:-0600
TZNAME:MDT
DTSTART:20250309T090000
END:DAYLIGHT
BEGIN:STANDARD
TZOFFSETFROM:-0600
TZOFFSETTO:-0700
TZNAME:MST
DTSTART:20251102T080000
END:STANDARD
END:VTIMEZONE
BEGIN:VEVENT
DTSTART;TZID=America/Los_Angeles:20250908T133000
DTEND;TZID=America/Los_Angeles:20250908T150000
DTSTAMP:20260423T033255
CREATED:20250905T011259Z
LAST-MODIFIED:20250905T011308Z
UID:10004221-1757338200-1757343600@sbchp.sbcounty.gov
SUMMARY:Mountain Regional Steering Committee
DESCRIPTION:Greetings! You are invited to attend: \nMountain Regional Steering Committee \nand Homeless Provider Network meeting \nMonday\, September 8\, 2025 – 1:30 p.m. to 3:00 p.m. \nMountain RSC Agenda Packet 9.8.2025 \nMeeting is “hybrid” –In Person for Board\, et al.\, at: \nSt. Richard’s Church – HALL \n28708 CA-Hwy 18 Sky Forest\, CA 92385 – just east of Kuffle Canyon \n  \nAlternate Meeting Satellite Sites:  \nBig Bear City Hall\, Training Room: 39707 Big Bear Blvd\, Big Bear Lake\, CA 92315 \nFamily Assistance: 1255 E. Highland Avenue\, Suite#211\, San Bernardino\, CA 92401 \nAND: Via Zoom Teleconference: \nhttps://us02web.zoom.us/j/83056213419?pwd=aVVUSy92c00xSWlqaHJRODJKd0F0UT09 \nOR: for Zoom problems: Call Gary: (909) 744-7999 \n  \nAction Item  \nApproval of minutes for June 9\, 2025 – requires in person voting  \n Presentation  \nTyrese Crawford\, Shonda Szabo\, et al. \n“SBCo Schools: McKinney-Vento Homeless Assistance Act “ \n Discussion  \nUpdates for Mountain Homeless Services \nOther Public Sharing/Comment
URL:https://sbchp.sbcounty.gov/event/mountain-regional-steering-committee-23/
LOCATION:St. Richard’s Church-Hall\, 28708 CA-Hwy 18\, Skyforest\, CA\, 92385.\, United States
END:VEVENT
BEGIN:VEVENT
DTSTART;TZID=America/Los_Angeles:20250310T133000
DTEND;TZID=America/Los_Angeles:20250310T150000
DTSTAMP:20260423T033255
CREATED:20250306T004129Z
LAST-MODIFIED:20250306T004129Z
UID:10004030-1741613400-1741618800@sbchp.sbcounty.gov
SUMMARY:Joint Mountain's HPN & RSC Meeting
DESCRIPTION:Greetings! You are invited to attend: \nJoint Special Meeting: \nMountain Homeless Provider Network & \nMountain Regional Steering Committee \nMountains RSC Agenda and Minutes \nMonday\, March 10\, 2025 – 1:30 p.m. to 3:00 p.m.) \nMeeting is “hybrid” –In Person for Board\, et al.\, at: \nSt. Richard’s Church – HALL \n28708 CA-Hwy 18 – just east of Kuffle Cnyn \n  \nAND: Via Zoom Teleconference: \nhttps://us02web.zoom.us/j/83056213419?pwd=aVVUSy92c00xSWlqaHJRODJKd0F0UT09 \nOR: for Zoom problems: Call Gary: (909) 744-7999 \n  \nPresentation: \n by Za Zette Scott \n“Working in the Margins” CES at a Glance \nContact: Gary Bradley \nSecretary \nMountain HPN+RSC \nGaryB@mtnhomeless.com \n909/744-7999 \nAttachment: \nFebruary Minutes / This month’s Agenda
URL:https://sbchp.sbcounty.gov/event/joint-mountains-hpn-rsc-meeting-4/
LOCATION:St. Richard’s Church-Hall\, 28708 CA-Hwy 18\, Skyforest\, CA\, 92385.\, United States
END:VEVENT
BEGIN:VEVENT
DTSTART;TZID=America/Los_Angeles:20241118T133000
DTEND;TZID=America/Los_Angeles:20241118T150000
DTSTAMP:20260423T033255
CREATED:20241108T211111Z
LAST-MODIFIED:20241108T211142Z
UID:10003703-1731936600-1731942000@sbchp.sbcounty.gov
SUMMARY:Joint Mountain HPN RSC Meeting
DESCRIPTION:View meeting agenda \nMeeting is “hybrid” –In Person for Board\, et al.\, at: \nSt. Richard’s Church – HALL\n28708 CA-Hwy 18 – just east of Kuffle Cnyn \nAND: Via Zoom  \nhttps://us02web.zoom.us/j/83056213419?pwd=aVVUSy92c00xSWlqaHJRODJKd0F0UT09 \nDial-in (669) 444-9171 Passcode 534180\nMeeting ID 830 5621 3419
URL:https://sbchp.sbcounty.gov/event/44608/
LOCATION:St. Richard’s Church-Hall\, 28708 CA-Hwy 18\, Skyforest\, CA\, 92385.\, United States
ORGANIZER;CN="Gary Bradley":MAILTO:garyb@mtnhomeless.com
END:VEVENT
BEGIN:VEVENT
DTSTART;TZID=America/Denver:20240311T133000
DTEND;TZID=America/Denver:20240311T150000
DTSTAMP:20260423T033255
CREATED:20240306T182523Z
LAST-MODIFIED:20240308T175741Z
UID:10003266-1710163800-1710169200@sbchp.sbcounty.gov
SUMMARY:Joint Mountain HPN & RSC Meeting
DESCRIPTION:View meeting agenda \nMeeting is “hybrid” –In Person for Board\, et al.\, at: \nSt. Richard’s Church – HALL\n28708 CA-Hwy 18 – just east of Kuffle Cnyn \nAND: Via Zoom  \nhttps://us02web.zoom.us/j/83056213419?pwd=aVVUSy92c00xSWlqaHJRODJKd0F0UT09 \nDial-in (669) 444-9171\nMeeting ID 830 5621 341
URL:https://sbchp.sbcounty.gov/event/joint-mountain-hpn-rsc-meeting-8/
LOCATION:St. Richard’s Church-Hall\, 28708 CA-Hwy 18\, Skyforest\, CA\, 92385.\, United States
END:VEVENT
BEGIN:VEVENT
DTSTART;TZID=America/Denver:20240212T133000
DTEND;TZID=America/Denver:20240212T150000
DTSTAMP:20260423T033255
CREATED:20240208T013601Z
LAST-MODIFIED:20240208T013601Z
UID:10003254-1707744600-1707750000@sbchp.sbcounty.gov
SUMMARY:Joint Mountain HPN & RSC Meeting
DESCRIPTION:View meeting agenda \nMeeting is “hybrid” –In Person for Board\, et al.\, at: \nSt. Richard’s Church – HALL\n28708 CA-Hwy 18 – just east of Kuffle Cnyn \nAND: Via Zoom  \nhttps://us02web.zoom.us/j/83056213419?pwd=aVVUSy92c00xSWlqaHJRODJKd0F0UT09 \nDial-in (669) 444-9171\nMeeting ID 830 5621 3419\nPasscode: 534180
URL:https://sbchp.sbcounty.gov/event/joint-mountain-hpn-rsc-meeting-7/
LOCATION:St. Richard’s Church-Hall\, 28708 CA-Hwy 18\, Skyforest\, CA\, 92385.\, United States
END:VEVENT
BEGIN:VEVENT
DTSTART;TZID=America/Denver:20240116T100000
DTEND;TZID=America/Denver:20240116T120000
DTSTAMP:20260423T033255
CREATED:20231201T001530Z
LAST-MODIFIED:20231201T001530Z
UID:10003188-1705399200-1705406400@sbchp.sbcounty.gov
SUMMARY:In-Person Mountain Regional Volunteer Training PITC 2024
DESCRIPTION:In person volunteer training for Mountain region volunteers Point-in-Time Count 2024 \n\n St. Richard’s Episcopal Church \n28708 Hw. 18 \nSkyforest\, CA \n\n Please check in at St. Richard’s Episcopal Church
URL:https://sbchp.sbcounty.gov/event/in-person-mountain-regional-volunteer-training-pitc-2024/
LOCATION:St. Richard’s Church-Hall\, 28708 CA-Hwy 18\, Skyforest\, CA\, 92385.\, United States
END:VEVENT
BEGIN:VEVENT
DTSTART;TZID=America/Denver:20240108T133000
DTEND;TZID=America/Denver:20240108T153000
DTSTAMP:20260423T033255
CREATED:20240105T011809Z
LAST-MODIFIED:20240105T011809Z
UID:10003239-1704720600-1704727800@sbchp.sbcounty.gov
SUMMARY:Joint Mountain HPN & RSC Meeting
DESCRIPTION:View meeting agenda \nMeeting is “hybrid” –In Person for Board\, et al.\, at: \nSt. Richard’s Church – HALL\n28708 CA-Hwy 18 – just east of Kuffle Cnyn \nAND: Via Zoom  \nhttps://us02web.zoom.us/j/83056213419?pwd=aVVUSy92c00xSWlqaHJRODJKd0F0UT09 \nDial-in (669) 444-9171\nMeeting ID 830 5621 3419\nPasscode: 534180
URL:https://sbchp.sbcounty.gov/event/joint-mountain-hpn-rsc-meeting-6/
LOCATION:St. Richard’s Church-Hall\, 28708 CA-Hwy 18\, Skyforest\, CA\, 92385.\, United States
END:VEVENT
BEGIN:VEVENT
DTSTART;TZID=America/Denver:20231211T133000
DTEND;TZID=America/Denver:20231211T150000
DTSTAMP:20260423T033255
CREATED:20231207T194022Z
LAST-MODIFIED:20231207T194022Z
UID:10002753-1702301400-1702306800@sbchp.sbcounty.gov
SUMMARY:Joint Mountain HPN &RSC Meeting
DESCRIPTION:View meeting agenda \nMeeting is “hybrid” –In Person for Board\, et al.\, at: \nSt. Richard’s Church – HALL\n28708 CA-Hwy 18 – just east of Kuffle Cnyn \nAND: Via Zoom  \nhttps://us02web.zoom.us/j/83056213419?pwd=aVVUSy92c00xSWlqaHJRODJKd0F0UT09 \nDial-in (669) 444-9171\nMeeting ID 830 5621 3419\nPasscode: 534180
URL:https://sbchp.sbcounty.gov/event/joint-mountain-hpn-rsc-meeting-5/
LOCATION:St. Richard’s Church-Hall\, 28708 CA-Hwy 18\, Skyforest\, CA\, 92385.\, United States
ORGANIZER;CN="Gary Bradley":MAILTO:garyb@mtnhomeless.com
END:VEVENT
BEGIN:VEVENT
DTSTART;TZID=America/Denver:20231113T133000
DTEND;TZID=America/Denver:20231113T150000
DTSTAMP:20260423T033255
CREATED:20231106T184631Z
LAST-MODIFIED:20231106T184631Z
UID:10003140-1699882200-1699887600@sbchp.sbcounty.gov
SUMMARY:Joint Mountain HPN &RSC Meeting
DESCRIPTION:View meeting agenda \nMeeting is “hybrid” –In Person for Board\, et al.\, at: \nSt. Richard’s Church – HALL\n28708 CA-Hwy 18 – just east of Kuffle Cnyn \nAND: Via Zoom  \nhttps://us02web.zoom.us/j/83056213419?pwd=aVVUSy92c00xSWlqaHJRODJKd0F0UT09 \nDial-in (669) 444-9171\nMeeting ID 830 5621 3419\nPasscode: 534180
URL:https://sbchp.sbcounty.gov/event/joint-mountain-hpn-rsc-meeting-4/
LOCATION:St. Richard’s Church-Hall\, 28708 CA-Hwy 18\, Skyforest\, CA\, 92385.\, United States
ORGANIZER;CN="Gary Bradley":MAILTO:garyb@mtnhomeless.com
END:VEVENT
BEGIN:VEVENT
DTSTART;TZID=America/Denver:20231016T133000
DTEND;TZID=America/Denver:20231016T150000
DTSTAMP:20260423T033255
CREATED:20231005T165316Z
LAST-MODIFIED:20231005T165316Z
UID:10003113-1697463000-1697468400@sbchp.sbcounty.gov
SUMMARY:Joint Mountain HPN &RSC Meeting
DESCRIPTION:View meeting agenda \nMeeting is “hybrid” –In Person for Board\, et al.\, at: \nSt. Richard’s Church – HALL\n28708 CA-Hwy 18 – just east of Kuffle Cnyn \nAND: Via Zoom  \nhttps://us02web.zoom.us/j/83056213419?pwd=aVVUSy92c00xSWlqaHJRODJKd0F0UT09 \nDial-in (669) 444-9171\nMeeting ID 830 5621 3419\nPasscode: 534180
URL:https://sbchp.sbcounty.gov/event/joint-mountain-hpn-rsc-meeting-3/
LOCATION:St. Richard’s Church-Hall\, 28708 CA-Hwy 18\, Skyforest\, CA\, 92385.\, United States
ORGANIZER;CN="Gary Bradley":MAILTO:garyb@mtnhomeless.com
END:VEVENT
BEGIN:VEVENT
DTSTART;TZID=America/Denver:20230911T133000
DTEND;TZID=America/Denver:20230911T150000
DTSTAMP:20260423T033255
CREATED:20230906T174222Z
LAST-MODIFIED:20230906T174222Z
UID:10003092-1694439000-1694444400@sbchp.sbcounty.gov
SUMMARY:Joint Mountain HPN &RSC Meeting
DESCRIPTION:View meeting agenda \nMeeting is “hybrid” –In Person for Board\, et al.\, at: \nSt. Richard’s Church – HALL\n28708 CA-Hwy 18 – just east of Kuffle Cnyn \nAND: Via Zoom  \nhttps://us02web.zoom.us/j/83056213419?pwd=aVVUSy92c00xSWlqaHJRODJKd0F0UT09 \nDial-in (669) 444-9171\nMeeting ID 830 5621 3419\nPasscode: 534180
URL:https://sbchp.sbcounty.gov/event/joint-mountain-hpn-rsc-meeting-2/
LOCATION:St. Richard’s Church-Hall\, 28708 CA-Hwy 18\, Skyforest\, CA\, 92385.\, United States
ORGANIZER;CN="Gary Bradley":MAILTO:garyb@mtnhomeless.com
END:VEVENT
BEGIN:VEVENT
DTSTART;TZID=America/Denver:20230713T100000
DTEND;TZID=America/Denver:20230713T110000
DTSTAMP:20260423T033255
CREATED:20230710T161410Z
LAST-MODIFIED:20230710T225307Z
UID:10002582-1689242400-1689246000@sbchp.sbcounty.gov
SUMMARY:Outreach & Coordinated Entry System Committee
DESCRIPTION:View meeting agenda \nMeeting is “hybrid” –In Person for Committee Members\, et al.\, at: \nSt. Richard’s Episcopal Church –Hall\n28708 CA-Hwy 18\, Skyforest\, CA 92385\n \nAND: Via Webex \nTeleconference info\nDial-in: +1-408-418-9388– One tap mobile +1-408-418-9388\,\,24943785545## United States Toll  \nMeeting ID: 2494 378 5545\nPasscode: CESmeeting
URL:https://sbchp.sbcounty.gov/event/outreach-coordinated-entry-system-committee/
LOCATION:St. Richard’s Church-Hall\, 28708 CA-Hwy 18\, Skyforest\, CA\, 92385.\, United States
ORGANIZER;CN="Gary Bradley":MAILTO:garyb@mtnhomeless.com
END:VEVENT
BEGIN:VEVENT
DTSTART;TZID=America/Denver:20230710T133000
DTEND;TZID=America/Denver:20230710T150000
DTSTAMP:20260423T033255
CREATED:20230705T182053Z
LAST-MODIFIED:20230705T194313Z
UID:10002564-1688995800-1689001200@sbchp.sbcounty.gov
SUMMARY:Joint Mountain HPN & RSC Meeting
DESCRIPTION:View meeting agenda \nMeeting is “hybrid” –In Person for Board\, et al.\, at: \nSt. Richard’s Church – HALL\n28708 CA-Hwy 18 – just east of Kuffle Cnyn \nAND: Via Zoom  \nTeleconference info \nDial-in (669) 444-9171\nMeeting ID 830 5621 3419\nPasscode: 534180
URL:https://sbchp.sbcounty.gov/event/special-joint-mountain-hpn-rsc-meeting-2/
LOCATION:St. Richard’s Church-Hall\, 28708 CA-Hwy 18\, Skyforest\, CA\, 92385.\, United States
ORGANIZER;CN="Gary Bradley":MAILTO:garyb@mtnhomeless.com
END:VEVENT
BEGIN:VEVENT
DTSTART;TZID=America/Denver:20230612T133000
DTEND;TZID=America/Denver:20230612T150000
DTSTAMP:20260423T033255
CREATED:20230609T210011Z
LAST-MODIFIED:20230609T212912Z
UID:10003041-1686576600-1686582000@sbchp.sbcounty.gov
SUMMARY:Special Joint Mountain HPN & RSC Meeting
DESCRIPTION:View meeting agenda \nMeeting is “hybrid” –In Person for Board\, et al.\, at: \nSt. Richard’s Church – HALL\n28708 CA-Hwy 18 – just east of Kuffle Cnyn \nAND: Via Zoom  \nTeleconference info\nDial-in (669) 444-9171\nMeeting ID 830 5621 3419\nPasscode: 534180
URL:https://sbchp.sbcounty.gov/event/special-joint-mountain-hpn-rsc-meeting/
LOCATION:St. Richard’s Church-Hall\, 28708 CA-Hwy 18\, Skyforest\, CA\, 92385.\, United States
ORGANIZER;CN="Gary Bradley":MAILTO:garyb@mtnhomeless.com
END:VEVENT
BEGIN:VEVENT
DTSTART;TZID=America/Denver:20230508T133000
DTEND;TZID=America/Denver:20230508T150000
DTSTAMP:20260423T033255
CREATED:20230504T000150Z
LAST-MODIFIED:20230504T000506Z
UID:10002996-1683552600-1683558000@sbchp.sbcounty.gov
SUMMARY:Joint Mountain HPN & RSC Meeting
DESCRIPTION:View meeting agenda \nMeeting is “hybrid” –In Person for Board\, et al.\, at: \nSt. Richard’s Church – HALL\n28708 CA-Hwy 18 – just east of Kuffle Cnyn \nAND: Via Zoom  \nTeleconference info\nDial-in (669) 444-9171\nMeeting ID 830 5621 3419\nPasscode: 534180
URL:https://sbchp.sbcounty.gov/event/joint-mountain-hpn-rsc-meeting/
LOCATION:St. Richard’s Church-Hall\, 28708 CA-Hwy 18\, Skyforest\, CA\, 92385.\, United States
ORGANIZER;CN="Gary Bradley":MAILTO:garyb@mtnhomeless.com
END:VEVENT
BEGIN:VEVENT
DTSTART;TZID=America/Denver:20230410T133000
DTEND;TZID=America/Denver:20230410T150000
DTSTAMP:20260423T033255
CREATED:20230406T234805Z
LAST-MODIFIED:20230407T160340Z
UID:10002978-1681133400-1681138800@sbchp.sbcounty.gov
SUMMARY:Joint Mountain HPN & RSC Meeting
DESCRIPTION:View meeting agenda \nMeeting is “hybrid” –In Person for Board\, et al.\, at: \nSt. Richard’s Church – HALL\n28708 CA-Hwy 18 – just east of Kuffle Cnyn \nAND: Via Zoom  \nTeleconference info\nDial-in (669) 444-9171\nMeeting ID 293 550 6990\nPasscode: 676595
URL:https://sbchp.sbcounty.gov/event/joint-mountain-hpn-and-mountain-regional-steering-committee-7/
LOCATION:St. Richard’s Church-Hall\, 28708 CA-Hwy 18\, Skyforest\, CA\, 92385.\, United States
END:VEVENT
BEGIN:VEVENT
DTSTART;TZID=America/Denver:20230313T133000
DTEND;TZID=America/Denver:20230313T150000
DTSTAMP:20260423T033255
CREATED:20230308T234924Z
LAST-MODIFIED:20230308T235013Z
UID:10002951-1678714200-1678719600@sbchp.sbcounty.gov
SUMMARY:Joint Mountain HPN and Mountain Regional Steering Committee
DESCRIPTION:View meeting agenda \nMeeting is “hybrid” –In Person for Board\, et al.\, at: \nSt. Richard’s Church – HALL\n28708 CA-Hwy 18 – just east of Kuffle Cnyn \nAND: Via Zoom  \nTeleconference info\nDial-in (669) 900 6833\nMeeting ID 820 4081 4605\nPasscode: 700434
URL:https://sbchp.sbcounty.gov/event/joint-mountain-hpn-and-mountain-regional-steering-committee-6/
LOCATION:St. Richard’s Church-Hall\, 28708 CA-Hwy 18\, Skyforest\, CA\, 92385.\, United States
END:VEVENT
END:VCALENDAR